BEGIN:VCALENDAR
VERSION:2.0
PRODID:-//SVP Kreis See-Gaster //NONSGML Events //EN
CALSCALE:GREGORIAN
X-WR-CALNAME:SVP Kreis See-Gaster
BEGIN:VEVENT
CREATED:20250316T122052Z
UID:704
DTEND:20250312T000000
DTSTART:20250310T000000
DTSTAMP:20260425T142745Z
LOCATION:St. Gallen
DESCRIPTION:
SUMMARY:Kantonsratssession
ORGANIZER:
URL;VALUE=URI:https://www.svp-see-gaster.ch/termine/kantonsratssession/
TRANSP:OPAQUE
END:VEVENT
END:VCALENDAR
